BEGIN:VCALENDAR
VERSION:2.0
PRODID:-//Agape Ministries, Inc. - ECPv6.15.17.1//NONSGML v1.0//EN
CALSCALE:GREGORIAN
METHOD:PUBLISH
X-ORIGINAL-URL:https://agapeministriesinc.com
X-WR-CALDESC:Events for Agape Ministries, Inc.
REFRESH-INTERVAL;VALUE=DURATION:PT1H
X-Robots-Tag:noindex
X-PUBLISHED-TTL:PT1H
BEGIN:VTIMEZONE
TZID:America/New_York
BEGIN:DAYLIGHT
TZOFFSETFROM:-0500
TZOFFSETTO:-0400
TZNAME:EDT
DTSTART:20270314T070000
END:DAYLIGHT
BEGIN:STANDARD
TZOFFSETFROM:-0400
TZOFFSETTO:-0500
TZNAME:EST
DTSTART:20271107T060000
END:STANDARD
BEGIN:DAYLIGHT
TZOFFSETFROM:-0500
TZOFFSETTO:-0400
TZNAME:EDT
DTSTART:20280312T070000
END:DAYLIGHT
BEGIN:STANDARD
TZOFFSETFROM:-0400
TZOFFSETTO:-0500
TZNAME:EST
DTSTART:20281105T060000
END:STANDARD
BEGIN:DAYLIGHT
TZOFFSETFROM:-0500
TZOFFSETTO:-0400
TZNAME:EDT
DTSTART:20290311T070000
END:DAYLIGHT
BEGIN:STANDARD
TZOFFSETFROM:-0400
TZOFFSETTO:-0500
TZNAME:EST
DTSTART:20291104T060000
END:STANDARD
END:VTIMEZONE
BEGIN:VEVENT
DTSTART;TZID=America/New_York:20280831T090000
DTEND;TZID=America/New_York:20280831T170000
DTSTAMP:20260420T073915
CREATED:20230607T170028Z
LAST-MODIFIED:20230607T190411Z
UID:10012607-1851325200-1851354000@agapeministriesinc.com
SUMMARY:Thrift Store
DESCRIPTION:
URL:https://agapeministriesinc.com/event/thrift-store/2028-08-31/
LOCATION:Agape Ministries Thrift Store\, 1302 E Spring St\, St Marys\, OH\, 45885\, United States
END:VEVENT
BEGIN:VEVENT
DTSTART;TZID=America/New_York:20280831T120000
DTEND;TZID=America/New_York:20280831T163000
DTSTAMP:20260420T073915
CREATED:20230504T163716Z
LAST-MODIFIED:20230607T190207Z
UID:10012415-1851336000-1851352200@agapeministriesinc.com
SUMMARY:Food Pantry Hours
DESCRIPTION:
URL:https://agapeministriesinc.com/event/food-pantry-hours/2028-08-31/
LOCATION:Agape Ministries Client Services\, 1220 East Spring Street\, St. Marys\, OH\, 45885\, United States
CATEGORIES:Food Pantry
ORGANIZER;CN="Agape Ministries Inc.":MAILTO:director@agapeministriesinc.com
END:VEVENT
BEGIN:VEVENT
DTSTART;TZID=America/New_York:20280901T090000
DTEND;TZID=America/New_York:20280901T170000
DTSTAMP:20260420T073915
CREATED:20230607T170028Z
LAST-MODIFIED:20230607T190411Z
UID:10012608-1851411600-1851440400@agapeministriesinc.com
SUMMARY:Thrift Store
DESCRIPTION:
URL:https://agapeministriesinc.com/event/thrift-store/2028-09-01/
LOCATION:Agape Ministries Thrift Store\, 1302 E Spring St\, St Marys\, OH\, 45885\, United States
END:VEVENT
BEGIN:VEVENT
DTSTART;TZID=America/New_York:20280902T090000
DTEND;TZID=America/New_York:20280902T150000
DTSTAMP:20260420T073915
CREATED:20230522T185301Z
LAST-MODIFIED:20230607T190525Z
UID:10012500-1851498000-1851519600@agapeministriesinc.com
SUMMARY:Thrift Store Hours
DESCRIPTION:
URL:https://agapeministriesinc.com/event/thrift-store-hours-3/2028-09-02/
LOCATION:Agape Ministries Thrift Store\, 1302 E Spring St\, St Marys\, OH\, 45885\, United States
CATEGORIES:Thrift Store
ORGANIZER;CN="Agape Ministries Inc.":MAILTO:director@agapeministriesinc.com
END:VEVENT
BEGIN:VEVENT
DTSTART;TZID=America/New_York:20280904T090000
DTEND;TZID=America/New_York:20280904T170000
DTSTAMP:20260420T073915
CREATED:20230607T170028Z
LAST-MODIFIED:20230607T190411Z
UID:10012609-1851670800-1851699600@agapeministriesinc.com
SUMMARY:Thrift Store
DESCRIPTION:
URL:https://agapeministriesinc.com/event/thrift-store/2028-09-04/
LOCATION:Agape Ministries Thrift Store\, 1302 E Spring St\, St Marys\, OH\, 45885\, United States
END:VEVENT
BEGIN:VEVENT
DTSTART;TZID=America/New_York:20280905T090000
DTEND;TZID=America/New_York:20280905T170000
DTSTAMP:20260420T073915
CREATED:20230607T170028Z
LAST-MODIFIED:20230607T190411Z
UID:10012610-1851757200-1851786000@agapeministriesinc.com
SUMMARY:Thrift Store
DESCRIPTION:
URL:https://agapeministriesinc.com/event/thrift-store/2028-09-05/
LOCATION:Agape Ministries Thrift Store\, 1302 E Spring St\, St Marys\, OH\, 45885\, United States
END:VEVENT
BEGIN:VEVENT
DTSTART;TZID=America/New_York:20280905T120000
DTEND;TZID=America/New_York:20280905T163000
DTSTAMP:20260420T073915
CREATED:20230504T163716Z
LAST-MODIFIED:20230607T190207Z
UID:10012416-1851768000-1851784200@agapeministriesinc.com
SUMMARY:Food Pantry Hours
DESCRIPTION:
URL:https://agapeministriesinc.com/event/food-pantry-hours/2028-09-05/
LOCATION:Agape Ministries Client Services\, 1220 East Spring Street\, St. Marys\, OH\, 45885\, United States
CATEGORIES:Food Pantry
ORGANIZER;CN="Agape Ministries Inc.":MAILTO:director@agapeministriesinc.com
END:VEVENT
BEGIN:VEVENT
DTSTART;TZID=America/New_York:20280906T090000
DTEND;TZID=America/New_York:20280906T170000
DTSTAMP:20260420T073915
CREATED:20230607T170028Z
LAST-MODIFIED:20230607T190411Z
UID:10012611-1851843600-1851872400@agapeministriesinc.com
SUMMARY:Thrift Store
DESCRIPTION:
URL:https://agapeministriesinc.com/event/thrift-store/2028-09-06/
LOCATION:Agape Ministries Thrift Store\, 1302 E Spring St\, St Marys\, OH\, 45885\, United States
END:VEVENT
BEGIN:VEVENT
DTSTART;TZID=America/New_York:20280907T090000
DTEND;TZID=America/New_York:20280907T170000
DTSTAMP:20260420T073915
CREATED:20230607T170028Z
LAST-MODIFIED:20230607T190411Z
UID:10012612-1851930000-1851958800@agapeministriesinc.com
SUMMARY:Thrift Store
DESCRIPTION:
URL:https://agapeministriesinc.com/event/thrift-store/2028-09-07/
LOCATION:Agape Ministries Thrift Store\, 1302 E Spring St\, St Marys\, OH\, 45885\, United States
END:VEVENT
BEGIN:VEVENT
DTSTART;TZID=America/New_York:20280907T120000
DTEND;TZID=America/New_York:20280907T163000
DTSTAMP:20260420T073915
CREATED:20230504T163716Z
LAST-MODIFIED:20230607T190207Z
UID:10012417-1851940800-1851957000@agapeministriesinc.com
SUMMARY:Food Pantry Hours
DESCRIPTION:
URL:https://agapeministriesinc.com/event/food-pantry-hours/2028-09-07/
LOCATION:Agape Ministries Client Services\, 1220 East Spring Street\, St. Marys\, OH\, 45885\, United States
CATEGORIES:Food Pantry
ORGANIZER;CN="Agape Ministries Inc.":MAILTO:director@agapeministriesinc.com
END:VEVENT
BEGIN:VEVENT
DTSTART;TZID=America/New_York:20280908T090000
DTEND;TZID=America/New_York:20280908T170000
DTSTAMP:20260420T073915
CREATED:20230607T170028Z
LAST-MODIFIED:20230607T190411Z
UID:10012613-1852016400-1852045200@agapeministriesinc.com
SUMMARY:Thrift Store
DESCRIPTION:
URL:https://agapeministriesinc.com/event/thrift-store/2028-09-08/
LOCATION:Agape Ministries Thrift Store\, 1302 E Spring St\, St Marys\, OH\, 45885\, United States
END:VEVENT
BEGIN:VEVENT
DTSTART;TZID=America/New_York:20280909T090000
DTEND;TZID=America/New_York:20280909T150000
DTSTAMP:20260420T073915
CREATED:20230522T185301Z
LAST-MODIFIED:20230607T190525Z
UID:10012501-1852102800-1852124400@agapeministriesinc.com
SUMMARY:Thrift Store Hours
DESCRIPTION:
URL:https://agapeministriesinc.com/event/thrift-store-hours-3/2028-09-09/
LOCATION:Agape Ministries Thrift Store\, 1302 E Spring St\, St Marys\, OH\, 45885\, United States
CATEGORIES:Thrift Store
ORGANIZER;CN="Agape Ministries Inc.":MAILTO:director@agapeministriesinc.com
END:VEVENT
BEGIN:VEVENT
DTSTART;TZID=America/New_York:20280911T090000
DTEND;TZID=America/New_York:20280911T170000
DTSTAMP:20260420T073915
CREATED:20230607T170028Z
LAST-MODIFIED:20230607T190411Z
UID:10012614-1852275600-1852304400@agapeministriesinc.com
SUMMARY:Thrift Store
DESCRIPTION:
URL:https://agapeministriesinc.com/event/thrift-store/2028-09-11/
LOCATION:Agape Ministries Thrift Store\, 1302 E Spring St\, St Marys\, OH\, 45885\, United States
END:VEVENT
BEGIN:VEVENT
DTSTART;TZID=America/New_York:20280912T090000
DTEND;TZID=America/New_York:20280912T170000
DTSTAMP:20260420T073915
CREATED:20230607T170028Z
LAST-MODIFIED:20230607T190411Z
UID:10012615-1852362000-1852390800@agapeministriesinc.com
SUMMARY:Thrift Store
DESCRIPTION:
URL:https://agapeministriesinc.com/event/thrift-store/2028-09-12/
LOCATION:Agape Ministries Thrift Store\, 1302 E Spring St\, St Marys\, OH\, 45885\, United States
END:VEVENT
BEGIN:VEVENT
DTSTART;TZID=America/New_York:20280912T120000
DTEND;TZID=America/New_York:20280912T163000
DTSTAMP:20260420T073915
CREATED:20230504T163716Z
LAST-MODIFIED:20230607T190207Z
UID:10012418-1852372800-1852389000@agapeministriesinc.com
SUMMARY:Food Pantry Hours
DESCRIPTION:
URL:https://agapeministriesinc.com/event/food-pantry-hours/2028-09-12/
LOCATION:Agape Ministries Client Services\, 1220 East Spring Street\, St. Marys\, OH\, 45885\, United States
CATEGORIES:Food Pantry
ORGANIZER;CN="Agape Ministries Inc.":MAILTO:director@agapeministriesinc.com
END:VEVENT
BEGIN:VEVENT
DTSTART;TZID=America/New_York:20280913T090000
DTEND;TZID=America/New_York:20280913T170000
DTSTAMP:20260420T073915
CREATED:20230607T170028Z
LAST-MODIFIED:20230607T190411Z
UID:10012616-1852448400-1852477200@agapeministriesinc.com
SUMMARY:Thrift Store
DESCRIPTION:
URL:https://agapeministriesinc.com/event/thrift-store/2028-09-13/
LOCATION:Agape Ministries Thrift Store\, 1302 E Spring St\, St Marys\, OH\, 45885\, United States
END:VEVENT
BEGIN:VEVENT
DTSTART;TZID=America/New_York:20280914T090000
DTEND;TZID=America/New_York:20280914T170000
DTSTAMP:20260420T073915
CREATED:20230607T170028Z
LAST-MODIFIED:20230607T190411Z
UID:10012617-1852534800-1852563600@agapeministriesinc.com
SUMMARY:Thrift Store
DESCRIPTION:
URL:https://agapeministriesinc.com/event/thrift-store/2028-09-14/
LOCATION:Agape Ministries Thrift Store\, 1302 E Spring St\, St Marys\, OH\, 45885\, United States
END:VEVENT
BEGIN:VEVENT
DTSTART;TZID=America/New_York:20280914T120000
DTEND;TZID=America/New_York:20280914T163000
DTSTAMP:20260420T073915
CREATED:20230504T163716Z
LAST-MODIFIED:20230607T190207Z
UID:10012419-1852545600-1852561800@agapeministriesinc.com
SUMMARY:Food Pantry Hours
DESCRIPTION:
URL:https://agapeministriesinc.com/event/food-pantry-hours/2028-09-14/
LOCATION:Agape Ministries Client Services\, 1220 East Spring Street\, St. Marys\, OH\, 45885\, United States
CATEGORIES:Food Pantry
ORGANIZER;CN="Agape Ministries Inc.":MAILTO:director@agapeministriesinc.com
END:VEVENT
BEGIN:VEVENT
DTSTART;TZID=America/New_York:20280915T090000
DTEND;TZID=America/New_York:20280915T170000
DTSTAMP:20260420T073915
CREATED:20230607T170028Z
LAST-MODIFIED:20230607T190411Z
UID:10012618-1852621200-1852650000@agapeministriesinc.com
SUMMARY:Thrift Store
DESCRIPTION:
URL:https://agapeministriesinc.com/event/thrift-store/2028-09-15/
LOCATION:Agape Ministries Thrift Store\, 1302 E Spring St\, St Marys\, OH\, 45885\, United States
END:VEVENT
BEGIN:VEVENT
DTSTART;TZID=America/New_York:20280916T090000
DTEND;TZID=America/New_York:20280916T150000
DTSTAMP:20260420T073915
CREATED:20230522T185301Z
LAST-MODIFIED:20230607T190525Z
UID:10012502-1852707600-1852729200@agapeministriesinc.com
SUMMARY:Thrift Store Hours
DESCRIPTION:
URL:https://agapeministriesinc.com/event/thrift-store-hours-3/2028-09-16/
LOCATION:Agape Ministries Thrift Store\, 1302 E Spring St\, St Marys\, OH\, 45885\, United States
CATEGORIES:Thrift Store
ORGANIZER;CN="Agape Ministries Inc.":MAILTO:director@agapeministriesinc.com
END:VEVENT
BEGIN:VEVENT
DTSTART;TZID=America/New_York:20280918T090000
DTEND;TZID=America/New_York:20280918T170000
DTSTAMP:20260420T073915
CREATED:20230607T170028Z
LAST-MODIFIED:20230607T190411Z
UID:10012619-1852880400-1852909200@agapeministriesinc.com
SUMMARY:Thrift Store
DESCRIPTION:
URL:https://agapeministriesinc.com/event/thrift-store/2028-09-18/
LOCATION:Agape Ministries Thrift Store\, 1302 E Spring St\, St Marys\, OH\, 45885\, United States
END:VEVENT
BEGIN:VEVENT
DTSTART;TZID=America/New_York:20280919T090000
DTEND;TZID=America/New_York:20280919T170000
DTSTAMP:20260420T073915
CREATED:20230607T170028Z
LAST-MODIFIED:20230607T190411Z
UID:10012620-1852966800-1852995600@agapeministriesinc.com
SUMMARY:Thrift Store
DESCRIPTION:
URL:https://agapeministriesinc.com/event/thrift-store/2028-09-19/
LOCATION:Agape Ministries Thrift Store\, 1302 E Spring St\, St Marys\, OH\, 45885\, United States
END:VEVENT
BEGIN:VEVENT
DTSTART;TZID=America/New_York:20280919T120000
DTEND;TZID=America/New_York:20280919T163000
DTSTAMP:20260420T073915
CREATED:20230504T163716Z
LAST-MODIFIED:20230607T190207Z
UID:10012420-1852977600-1852993800@agapeministriesinc.com
SUMMARY:Food Pantry Hours
DESCRIPTION:
URL:https://agapeministriesinc.com/event/food-pantry-hours/2028-09-19/
LOCATION:Agape Ministries Client Services\, 1220 East Spring Street\, St. Marys\, OH\, 45885\, United States
CATEGORIES:Food Pantry
ORGANIZER;CN="Agape Ministries Inc.":MAILTO:director@agapeministriesinc.com
END:VEVENT
BEGIN:VEVENT
DTSTART;TZID=America/New_York:20280920T090000
DTEND;TZID=America/New_York:20280920T170000
DTSTAMP:20260420T073915
CREATED:20230607T170028Z
LAST-MODIFIED:20230607T190411Z
UID:10012621-1853053200-1853082000@agapeministriesinc.com
SUMMARY:Thrift Store
DESCRIPTION:
URL:https://agapeministriesinc.com/event/thrift-store/2028-09-20/
LOCATION:Agape Ministries Thrift Store\, 1302 E Spring St\, St Marys\, OH\, 45885\, United States
END:VEVENT
BEGIN:VEVENT
DTSTART;TZID=America/New_York:20280921T090000
DTEND;TZID=America/New_York:20280921T170000
DTSTAMP:20260420T073915
CREATED:20230607T170028Z
LAST-MODIFIED:20230607T190411Z
UID:10012622-1853139600-1853168400@agapeministriesinc.com
SUMMARY:Thrift Store
DESCRIPTION:
URL:https://agapeministriesinc.com/event/thrift-store/2028-09-21/
LOCATION:Agape Ministries Thrift Store\, 1302 E Spring St\, St Marys\, OH\, 45885\, United States
END:VEVENT
BEGIN:VEVENT
DTSTART;TZID=America/New_York:20280921T120000
DTEND;TZID=America/New_York:20280921T163000
DTSTAMP:20260420T073915
CREATED:20230504T163716Z
LAST-MODIFIED:20230607T190207Z
UID:10012421-1853150400-1853166600@agapeministriesinc.com
SUMMARY:Food Pantry Hours
DESCRIPTION:
URL:https://agapeministriesinc.com/event/food-pantry-hours/2028-09-21/
LOCATION:Agape Ministries Client Services\, 1220 East Spring Street\, St. Marys\, OH\, 45885\, United States
CATEGORIES:Food Pantry
ORGANIZER;CN="Agape Ministries Inc.":MAILTO:director@agapeministriesinc.com
END:VEVENT
BEGIN:VEVENT
DTSTART;TZID=America/New_York:20280922T090000
DTEND;TZID=America/New_York:20280922T170000
DTSTAMP:20260420T073915
CREATED:20230607T170028Z
LAST-MODIFIED:20230607T190411Z
UID:10012623-1853226000-1853254800@agapeministriesinc.com
SUMMARY:Thrift Store
DESCRIPTION:
URL:https://agapeministriesinc.com/event/thrift-store/2028-09-22/
LOCATION:Agape Ministries Thrift Store\, 1302 E Spring St\, St Marys\, OH\, 45885\, United States
END:VEVENT
BEGIN:VEVENT
DTSTART;TZID=America/New_York:20280923T090000
DTEND;TZID=America/New_York:20280923T150000
DTSTAMP:20260420T073915
CREATED:20230522T185301Z
LAST-MODIFIED:20230607T190525Z
UID:10012503-1853312400-1853334000@agapeministriesinc.com
SUMMARY:Thrift Store Hours
DESCRIPTION:
URL:https://agapeministriesinc.com/event/thrift-store-hours-3/2028-09-23/
LOCATION:Agape Ministries Thrift Store\, 1302 E Spring St\, St Marys\, OH\, 45885\, United States
CATEGORIES:Thrift Store
ORGANIZER;CN="Agape Ministries Inc.":MAILTO:director@agapeministriesinc.com
END:VEVENT
BEGIN:VEVENT
DTSTART;TZID=America/New_York:20280925T090000
DTEND;TZID=America/New_York:20280925T170000
DTSTAMP:20260420T073915
CREATED:20230607T170028Z
LAST-MODIFIED:20230607T190411Z
UID:10012624-1853485200-1853514000@agapeministriesinc.com
SUMMARY:Thrift Store
DESCRIPTION:
URL:https://agapeministriesinc.com/event/thrift-store/2028-09-25/
LOCATION:Agape Ministries Thrift Store\, 1302 E Spring St\, St Marys\, OH\, 45885\, United States
END:VEVENT
BEGIN:VEVENT
DTSTART;TZID=America/New_York:20280926T090000
DTEND;TZID=America/New_York:20280926T170000
DTSTAMP:20260420T073915
CREATED:20230607T170028Z
LAST-MODIFIED:20230607T190411Z
UID:10012625-1853571600-1853600400@agapeministriesinc.com
SUMMARY:Thrift Store
DESCRIPTION:
URL:https://agapeministriesinc.com/event/thrift-store/2028-09-26/
LOCATION:Agape Ministries Thrift Store\, 1302 E Spring St\, St Marys\, OH\, 45885\, United States
END:VEVENT
END:VCALENDAR